BEGIN:VCALENDAR
VERSION:2.0
PRODID:-//Folsom Pickleball Club - ECPv6.15.20//NONSGML v1.0//EN
CALSCALE:GREGORIAN
METHOD:PUBLISH
X-WR-CALNAME:Folsom Pickleball Club
X-ORIGINAL-URL:https://folsompickleballclub.org
X-WR-CALDESC:Events for Folsom Pickleball Club
REFRESH-INTERVAL;VALUE=DURATION:PT1H
X-Robots-Tag:noindex
X-PUBLISHED-TTL:PT1H
BEGIN:VTIMEZONE
TZID:America/Los_Angeles
BEGIN:DAYLIGHT
TZOFFSETFROM:-0800
TZOFFSETTO:-0700
TZNAME:PDT
DTSTART:20250309T100000
END:DAYLIGHT
BEGIN:STANDARD
TZOFFSETFROM:-0700
TZOFFSETTO:-0800
TZNAME:PST
DTSTART:20251102T090000
END:STANDARD
BEGIN:DAYLIGHT
TZOFFSETFROM:-0800
TZOFFSETTO:-0700
TZNAME:PDT
DTSTART:20260308T100000
END:DAYLIGHT
BEGIN:STANDARD
TZOFFSETFROM:-0700
TZOFFSETTO:-0800
TZNAME:PST
DTSTART:20261101T090000
END:STANDARD
BEGIN:DAYLIGHT
TZOFFSETFROM:-0800
TZOFFSETTO:-0700
TZNAME:PDT
DTSTART:20270314T100000
END:DAYLIGHT
BEGIN:STANDARD
TZOFFSETFROM:-0700
TZOFFSETTO:-0800
TZNAME:PST
DTSTART:20271107T090000
END:STANDARD
END:VTIMEZONE
BEGIN:VEVENT
DTSTART;TZID=America/Los_Angeles:20260416T183000
DTEND;TZID=America/Los_Angeles:20260416T200000
DTSTAMP:20260420T022133
CREATED:20260322T230138Z
LAST-MODIFIED:20260322T231711Z
UID:10006788-1776364200-1776369600@folsompickleballclub.org
SUMMARY:101 Thursday Drills (2.0-2.75)
DESCRIPTION:Class Size: (8) club members    Time: 6:30 p.m. – 8:00 p.m.\nMembers do not need to be assessed prior to signing up. \nCancellation & No-Show Policy\nClick here to pay the $15 donation fee if you miss a session or cancel with less than 24 hours’ notice.\nYour ability to sign-up or attend future sessions will be restricted until payment is made.
URL:https://folsompickleballclub.org/event/101-thursday-drills-2-0-2-75-14/
LOCATION:Lembi Park\, 1302 Riley St.\, Folsom\, CA\, 95630\, United States
CATEGORIES:Drills
ATTACH;FMTTYPE=image/jpeg:https://folsompickleballclub.org/wp-content/uploads/2025/08/IMG_1903.jpeg
END:VEVENT
BEGIN:VEVENT
DTSTART;TZID=America/Los_Angeles:20260416T183000
DTEND;TZID=America/Los_Angeles:20260416T200000
DTSTAMP:20260420T022133
CREATED:20260322T233137Z
LAST-MODIFIED:20260322T233821Z
UID:10006793-1776364200-1776369600@folsompickleballclub.org
SUMMARY:102 Thursday Drills (3.0-3.5)
DESCRIPTION:Class Size: (8) club members    Time: 6:30 p.m. – 8:00 p.m.\nMembers must be assessed prior to signing up. \nCancellation & No-Show Policy\nClick here to pay the $15 donation fee if you miss a session or cancel with less than 24 hours’ notice.\nYour ability to sign-up or attend future sessions will be restricted until payment is made.
URL:https://folsompickleballclub.org/event/102-thursday-drills-3-0-3-5-12/
LOCATION:Lembi Park\, 1302 Riley St.\, Folsom\, CA\, 95630\, United States
CATEGORIES:Drills
ATTACH;FMTTYPE=image/jpeg:https://folsompickleballclub.org/wp-content/uploads/2025/08/IMG_1904.jpeg
END:VEVENT
END:VCALENDAR